BEGIN:VCALENDAR
VERSION:2.0
PRODID:-//Manus Genusswelt - ECPv6.15.20//NONSGML v1.0//EN
CALSCALE:GREGORIAN
METHOD:PUBLISH
X-WR-CALNAME:Manus Genusswelt
X-ORIGINAL-URL:https://manusgenusswelt.de
X-WR-CALDESC:Veranstaltungen für Manus Genusswelt
REFRESH-INTERVAL;VALUE=DURATION:PT1H
X-Robots-Tag:noindex
X-PUBLISHED-TTL:PT1H
BEGIN:VTIMEZONE
TZID:Europe/Berlin
BEGIN:DAYLIGHT
TZOFFSETFROM:+0100
TZOFFSETTO:+0200
TZNAME:CEST
DTSTART:20210328T010000
END:DAYLIGHT
BEGIN:STANDARD
TZOFFSETFROM:+0200
TZOFFSETTO:+0100
TZNAME:CET
DTSTART:20211031T010000
END:STANDARD
BEGIN:DAYLIGHT
TZOFFSETFROM:+0100
TZOFFSETTO:+0200
TZNAME:CEST
DTSTART:20220327T010000
END:DAYLIGHT
BEGIN:STANDARD
TZOFFSETFROM:+0200
TZOFFSETTO:+0100
TZNAME:CET
DTSTART:20221030T010000
END:STANDARD
BEGIN:DAYLIGHT
TZOFFSETFROM:+0100
TZOFFSETTO:+0200
TZNAME:CEST
DTSTART:20230326T010000
END:DAYLIGHT
BEGIN:STANDARD
TZOFFSETFROM:+0200
TZOFFSETTO:+0100
TZNAME:CET
DTSTART:20231029T010000
END:STANDARD
END:VTIMEZONE
BEGIN:VEVENT
DTSTART;TZID=Europe/Berlin:20221210T180000
DTEND;TZID=Europe/Berlin:20221210T210000
DTSTAMP:20260424T063843
CREATED:20221120T150631Z
LAST-MODIFIED:20221120T150631Z
UID:3430-1670695200-1670706000@manusgenusswelt.de
SUMMARY:Manus Garnelen
DESCRIPTION:
URL:https://manusgenusswelt.de/event/manus-garnelen-8/
LOCATION:Manus Genusswelt\, St.-Jakobs-Platz 3\, 86316 Friedberg\, Deutschland
ATTACH;FMTTYPE=image/jpeg:https://manusgenusswelt.de/wp-content/uploads/2022/02/eventsmanusgenussweltgarnelen.jpg
ORGANIZER;CN="Manuela Mahl":MAILTO:info@manusgenusswelt.de
END:VEVENT
BEGIN:VEVENT
DTSTART;TZID=Europe/Berlin:20221216T090000
DTEND;TZID=Europe/Berlin:20221216T180000
DTSTAMP:20260424T063843
CREATED:20221017T080843Z
LAST-MODIFIED:20221017T080843Z
UID:3237-1671181200-1671213600@manusgenusswelt.de
SUMMARY:Geschlossene Veranstaltung
DESCRIPTION:
URL:https://manusgenusswelt.de/event/geschlossene-veranstaltung-5/
LOCATION:Manus Genusswelt\, St.-Jakobs-Platz 3\, 86316 Friedberg\, Deutschland
CATEGORIES:Event
ATTACH;FMTTYPE=image/jpeg:https://manusgenusswelt.de/wp-content/uploads/2022/01/manusgenussweltweinaugsburgfriedbergweinprobe-024.jpg
ORGANIZER;CN="Manuela Mahl":MAILTO:info@manusgenusswelt.de
END:VEVENT
BEGIN:VEVENT
DTSTART;TZID=Europe/Berlin:20221217T180000
DTEND;TZID=Europe/Berlin:20221217T180000
DTSTAMP:20260424T063843
CREATED:20221017T080538Z
LAST-MODIFIED:20221017T080611Z
UID:3235-1671300000-1671300000@manusgenusswelt.de
SUMMARY:Geschlossene Veranstaltung
DESCRIPTION:
URL:https://manusgenusswelt.de/event/geschlossene-veranstaltung-4/
LOCATION:Manus Genusswelt\, St.-Jakobs-Platz 3\, 86316 Friedberg\, Deutschland
ATTACH;FMTTYPE=image/jpeg:https://manusgenusswelt.de/wp-content/uploads/2022/01/manusgenussweltweinaugsburgfriedbergweinprobe-024.jpg
ORGANIZER;CN="Manuela Mahl":MAILTO:info@manusgenusswelt.de
END:VEVENT
BEGIN:VEVENT
DTSTART;TZID=Europe/Berlin:20221218T180000
DTEND;TZID=Europe/Berlin:20221218T210000
DTSTAMP:20260424T063843
CREATED:20221017T133517Z
LAST-MODIFIED:20221102T083323Z
UID:3239-1671386400-1671397200@manusgenusswelt.de
SUMMARY:Flammkuchen
DESCRIPTION:
URL:https://manusgenusswelt.de/event/flammkuchen-5/
LOCATION:Manus Genusswelt\, St.-Jakobs-Platz 3\, 86316 Friedberg\, Deutschland
CATEGORIES:Event
ATTACH;FMTTYPE=image/jpeg:https://manusgenusswelt.de/wp-content/uploads/2022/02/eventsmanusgenussweltflammkuchen.jpg
ORGANIZER;CN="Manuela Mahl":MAILTO:info@manusgenusswelt.de
END:VEVENT
END:VCALENDAR