BEGIN:VCALENDAR
VERSION:2.0
PRODID:-//Manus Genusswelt - ECPv6.15.20//NONSGML v1.0//EN
CALSCALE:GREGORIAN
METHOD:PUBLISH
X-WR-CALNAME:Manus Genusswelt
X-ORIGINAL-URL:https://manusgenusswelt.de
X-WR-CALDESC:Veranstaltungen für Manus Genusswelt
REFRESH-INTERVAL;VALUE=DURATION:PT1H
X-Robots-Tag:noindex
X-PUBLISHED-TTL:PT1H
BEGIN:VTIMEZONE
TZID:Europe/Berlin
BEGIN:DAYLIGHT
TZOFFSETFROM:+0100
TZOFFSETTO:+0200
TZNAME:CEST
DTSTART:20210328T010000
END:DAYLIGHT
BEGIN:STANDARD
TZOFFSETFROM:+0200
TZOFFSETTO:+0100
TZNAME:CET
DTSTART:20211031T010000
END:STANDARD
BEGIN:DAYLIGHT
TZOFFSETFROM:+0100
TZOFFSETTO:+0200
TZNAME:CEST
DTSTART:20220327T010000
END:DAYLIGHT
BEGIN:STANDARD
TZOFFSETFROM:+0200
TZOFFSETTO:+0100
TZNAME:CET
DTSTART:20221030T010000
END:STANDARD
BEGIN:DAYLIGHT
TZOFFSETFROM:+0100
TZOFFSETTO:+0200
TZNAME:CEST
DTSTART:20230326T010000
END:DAYLIGHT
BEGIN:STANDARD
TZOFFSETFROM:+0200
TZOFFSETTO:+0100
TZNAME:CET
DTSTART:20231029T010000
END:STANDARD
END:VTIMEZONE
BEGIN:VEVENT
DTSTART;TZID=Europe/Berlin:20221008T180000
DTEND;TZID=Europe/Berlin:20221008T220000
DTSTAMP:20260424T093308
CREATED:20220908T132604Z
LAST-MODIFIED:20220908T132604Z
UID:3214-1665252000-1665266400@manusgenusswelt.de
SUMMARY:Ital. Brotzeitbrettel
DESCRIPTION:
URL:https://manusgenusswelt.de/event/ital-brotzeitbrettel/
LOCATION:Manus Genusswelt\, St.-Jakobs-Platz 3\, 86316 Friedberg\, Deutschland
CATEGORIES:Event
ATTACH;FMTTYPE=image/jpeg:https://manusgenusswelt.de/wp-content/uploads/2022/01/manusgenussweltweinaugsburgfriedbergweinprobe-002.jpg
ORGANIZER;CN="Manuela Mahl":MAILTO:info@manusgenusswelt.de
END:VEVENT
BEGIN:VEVENT
DTSTART;TZID=Europe/Berlin:20221015T180000
DTEND;TZID=Europe/Berlin:20221015T220000
DTSTAMP:20260424T093308
CREATED:20220908T132754Z
LAST-MODIFIED:20220908T132754Z
UID:3216-1665856800-1665871200@manusgenusswelt.de
SUMMARY:Spareribbes
DESCRIPTION:
URL:https://manusgenusswelt.de/event/spareribbes/
LOCATION:Manus Genusswelt\, St.-Jakobs-Platz 3\, 86316 Friedberg\, Deutschland
CATEGORIES:Event
ATTACH;FMTTYPE=image/jpeg:https://manusgenusswelt.de/wp-content/uploads/2022/01/eventsmanusgenussweltkaesspatzenessen-_0000s_0001_4.jpg
ORGANIZER;CN="Manuela Mahl":MAILTO:info@manusgenusswelt.de
END:VEVENT
BEGIN:VEVENT
DTSTART;TZID=Europe/Berlin:20221021T173000
DTEND;TZID=Europe/Berlin:20221021T220000
DTSTAMP:20260424T093308
CREATED:20220523T103219Z
LAST-MODIFIED:20220924T112705Z
UID:3172-1666373400-1666389600@manusgenusswelt.de
SUMMARY:Manus Garnelen
DESCRIPTION:
URL:https://manusgenusswelt.de/event/manus-garnelen-4/
LOCATION:Manus Genusswelt\, St.-Jakobs-Platz 3\, 86316 Friedberg\, Deutschland
ATTACH;FMTTYPE=image/jpeg:https://manusgenusswelt.de/wp-content/uploads/2022/02/eventsmanusgenussweltgarnelen.jpg
ORGANIZER;CN="Manuela Mahl":MAILTO:info@manusgenusswelt.de
END:VEVENT
BEGIN:VEVENT
DTSTART;TZID=Europe/Berlin:20221022T180000
DTEND;TZID=Europe/Berlin:20221022T220000
DTSTAMP:20260424T093308
CREATED:20220725T154445Z
LAST-MODIFIED:20220725T154445Z
UID:3191-1666461600-1666476000@manusgenusswelt.de
SUMMARY:Manus Garnelen
DESCRIPTION:
URL:https://manusgenusswelt.de/event/manus-garnelen-6/
LOCATION:Manus Genusswelt\, St.-Jakobs-Platz 3\, 86316 Friedberg\, Deutschland
ATTACH;FMTTYPE=image/jpeg:https://manusgenusswelt.de/wp-content/uploads/2022/02/eventsmanusgenussweltgarnelen.jpg
ORGANIZER;CN="Manuela Mahl":MAILTO:info@manusgenusswelt.de
END:VEVENT
BEGIN:VEVENT
DTSTART;TZID=Europe/Berlin:20221029T183000
DTEND;TZID=Europe/Berlin:20221029T233000
DTSTAMP:20260424T093308
CREATED:20220902T145824Z
LAST-MODIFIED:20221017T080245Z
UID:3202-1667068200-1667086200@manusgenusswelt.de
SUMMARY:Flammkuchen
DESCRIPTION:
URL:https://manusgenusswelt.de/event/geburtstag-geschlossene-veranstaltung-2/
LOCATION:Manus Genusswelt\, St.-Jakobs-Platz 3\, 86316 Friedberg\, Deutschland
CATEGORIES:Event
ATTACH;FMTTYPE=image/jpeg:https://manusgenusswelt.de/wp-content/uploads/2022/02/eventsmanusgenussweltflammkuchen.jpg
ORGANIZER;CN="Manuela Mahl":MAILTO:info@manusgenusswelt.de
END:VEVENT
END:VCALENDAR