BEGIN:VCALENDAR
VERSION:2.0
PRODID:-//Manus Genusswelt - ECPv6.15.20//NONSGML v1.0//EN
CALSCALE:GREGORIAN
METHOD:PUBLISH
X-WR-CALNAME:Manus Genusswelt
X-ORIGINAL-URL:https://manusgenusswelt.de
X-WR-CALDESC:Veranstaltungen für Manus Genusswelt
REFRESH-INTERVAL;VALUE=DURATION:PT1H
X-Robots-Tag:noindex
X-PUBLISHED-TTL:PT1H
BEGIN:VTIMEZONE
TZID:Europe/Berlin
BEGIN:DAYLIGHT
TZOFFSETFROM:+0100
TZOFFSETTO:+0200
TZNAME:CEST
DTSTART:20210328T010000
END:DAYLIGHT
BEGIN:STANDARD
TZOFFSETFROM:+0200
TZOFFSETTO:+0100
TZNAME:CET
DTSTART:20211031T010000
END:STANDARD
BEGIN:DAYLIGHT
TZOFFSETFROM:+0100
TZOFFSETTO:+0200
TZNAME:CEST
DTSTART:20220327T010000
END:DAYLIGHT
BEGIN:STANDARD
TZOFFSETFROM:+0200
TZOFFSETTO:+0100
TZNAME:CET
DTSTART:20221030T010000
END:STANDARD
BEGIN:DAYLIGHT
TZOFFSETFROM:+0100
TZOFFSETTO:+0200
TZNAME:CEST
DTSTART:20230326T010000
END:DAYLIGHT
BEGIN:STANDARD
TZOFFSETFROM:+0200
TZOFFSETTO:+0100
TZNAME:CET
DTSTART:20231029T010000
END:STANDARD
END:VTIMEZONE
BEGIN:VEVENT
DTSTART;TZID=Europe/Berlin:20220305T160000
DTEND;TZID=Europe/Berlin:20220305T220000
DTSTAMP:20260424T192231
CREATED:20220204T120304Z
LAST-MODIFIED:20220204T122807Z
UID:3096-1646496000-1646517600@manusgenusswelt.de
SUMMARY:Antipastiteller
DESCRIPTION:Hier buchen. \nUnter Vorbehalt der aktuellen Corona Regeln.
URL:https://manusgenusswelt.de/event/antipastiteller/
LOCATION:Manus Genusswelt\, St.-Jakobs-Platz 3\, 86316 Friedberg\, Deutschland
CATEGORIES:Event
ATTACH;FMTTYPE=image/jpeg:https://manusgenusswelt.de/wp-content/uploads/2022/01/eventsmanusgenussweltkaesspatzenessen-_0000s_0001_4.jpg
ORGANIZER;CN="Manuela Mahl":MAILTO:info@manusgenusswelt.de
END:VEVENT
BEGIN:VEVENT
DTSTART;TZID=Europe/Berlin:20220312T160000
DTEND;TZID=Europe/Berlin:20220312T220000
DTSTAMP:20260424T192231
CREATED:20220204T120535Z
LAST-MODIFIED:20220204T120535Z
UID:3099-1647100800-1647122400@manusgenusswelt.de
SUMMARY:Flammkuchen
DESCRIPTION:Hier buchen. \nUnter Vorbehalt der aktuellen Corona Regeln.
URL:https://manusgenusswelt.de/event/flammkuchen-2/
LOCATION:Manus Genusswelt\, St.-Jakobs-Platz 3\, 86316 Friedberg\, Deutschland
CATEGORIES:Event
ATTACH;FMTTYPE=image/jpeg:https://manusgenusswelt.de/wp-content/uploads/2022/02/eventsmanusgenussweltflammkuchen.jpg
ORGANIZER;CN="Manuela Mahl":MAILTO:info@manusgenusswelt.de
END:VEVENT
BEGIN:VEVENT
DTSTART;TZID=Europe/Berlin:20220319T160000
DTEND;TZID=Europe/Berlin:20220319T220000
DTSTAMP:20260424T192231
CREATED:20220204T120731Z
LAST-MODIFIED:20220204T121012Z
UID:3101-1647705600-1647727200@manusgenusswelt.de
SUMMARY:Rösti mit Lachs
DESCRIPTION:Hier buchen. \nUnter Vorbehalt der aktuellen Corona Regeln.
URL:https://manusgenusswelt.de/event/roesti-mit-lachs-2/
LOCATION:Manus Genusswelt\, St.-Jakobs-Platz 3\, 86316 Friedberg\, Deutschland
CATEGORIES:Event
ATTACH;FMTTYPE=image/jpeg:https://manusgenusswelt.de/wp-content/uploads/2022/01/eventsmanusgenussweltkaesspatzenessen-_0000s_0001_4.jpg
ORGANIZER;CN="Manuela Mahl":MAILTO:info@manusgenusswelt.de
END:VEVENT
BEGIN:VEVENT
DTSTART;TZID=Europe/Berlin:20220326T170000
DTEND;TZID=Europe/Berlin:20220326T200000
DTSTAMP:20260424T192231
CREATED:20220104T173658Z
LAST-MODIFIED:20220105T133203Z
UID:2964-1648314000-1648324800@manusgenusswelt.de
SUMMARY:Weinprobe
DESCRIPTION:Wir laden Sie gerne zu einer individuellen Weinprobe ein. \nUnser Angebot umfasst folgende Leistung: \n+ Wir begrüßen Sie mit einem Glas Winzersekt\n+ Weinprobe mit verschiedenen Rebsorten und Jahrgängen\n+ Dazu reichen wir Ihnen leckere Spezialitäten \nPreis erhalten Sie gerne auf Anfrage. \nUnter Vorbehalt der aktuellen Corona Regeln.
URL:https://manusgenusswelt.de/event/weinprobe/
LOCATION:Manus Genusswelt\, St.-Jakobs-Platz 3\, 86316 Friedberg\, Deutschland
CATEGORIES:Weinprobe
ATTACH;FMTTYPE=image/jpeg:https://manusgenusswelt.de/wp-content/uploads/2022/01/manusgenussweltweinaugsburgfriedbergweinprobe-021.jpg
ORGANIZER;CN="Manuela Mahl":MAILTO:info@manusgenusswelt.de
END:VEVENT
END:VCALENDAR